BEGIN:VCALENDAR
VERSION:2.0
PRODID:-//wp-events-plugin.com//7.2.3.1//EN
BEGIN:VEVENT
UID:374@16ruedeplaisance.org
DTSTART;TZID=Europe/Paris;VALUE=DATE:20231221
DTEND;TZID=Europe/Paris;VALUE=DATE:20231222
DTSTAMP:20231127T193634Z
URL:https://www.16ruedeplaisance.org/evenements/ma-place-a-table-a-blangui
 -le-sablier/
SUMMARY:Pablof - Ma place à table à Blangy le Château / Le Sablier
DESCRIPTION:Nous jouons à la MFR de Blangy le Château dans le cadre du di
 spositif  Regards (action culturelle) mené par le Sablier.\nSpectacle le
  matin / Atelier l'après midi
ATTACH;FMTTYPE=image/jpeg:https://www.16ruedeplaisance.org/wp-content/uplo
 ads/2018/12/Présentation-Frêres-Pavlov-Web-06.jpg
CATEGORIES:Les frères Pablof
LOCATION:Le Sablier CNMA\, Le beffroi rue de l'avenir\, Dives sur mer\, 141
 60\, France
GEO:49.292001;-0.100818
X-APPLE-STRUCTURED-LOCATION;VALUE=URI;X-ADDRESS=Le beffroi rue de l'avenir\
 , Dives sur mer\, 14160\, France;X-APPLE-RADIUS=100;X-TITLE=Le Sablier CNM
 A:geo:49.292001,-0.100818
END:VEVENT
BEGIN:VTIMEZONE
TZID:Europe/Paris
X-LIC-LOCATION:Europe/Paris
BEGIN:STANDARD
DTSTART:20231029T020000
TZOFFSETFROM:+0200
TZOFFSETTO:+0100
TZNAME:CET
END:STANDARD
END:VTIMEZONE
END:VCALENDAR