BEGIN:VCALENDAR
VERSION:2.0
PRODID:-//wp-events-plugin.com//7.2.3.1//EN
BEGIN:VEVENT
UID:354@16ruedeplaisance.org
DTSTART;TZID=Europe/Paris;VALUE=DATE:20240524
DTEND;TZID=Europe/Paris;VALUE=DATE:20240527
DTSTAMP:20240429T074954Z
URL:https://www.16ruedeplaisance.org/evenements/ma-place-a-table-a-luluber
 lu/
SUMMARY:Pablof - Ma place à table  à Luluberlu
DESCRIPTION:Toutes les infos sont ici\n\nNous jouons les Sam 25 à 11H - 14
 h et 17h\n\net DIM 26 à 11H - 14h et 16h30\n\n&nbsp\;\n\n&nbsp\;
ATTACH;FMTTYPE=image/jpeg:https://www.16ruedeplaisance.org/wp-content/uplo
 ads/2018/12/Présentation-Frêres-Pavlov-Web-06.jpg
CATEGORIES:Les frères Pablof
LOCATION:Festival Luluberlu\, 4\, avenue du Parc\, Blagnac\, France
GEO:43.6347029;1.386270100000047
X-APPLE-STRUCTURED-LOCATION;VALUE=URI;X-ADDRESS=4\, avenue du Parc\, Blagna
 c\, France;X-APPLE-RADIUS=100;X-TITLE=Festival Luluberlu:geo:43.6347029,1.
 386270100000047
END:VEVENT
BEGIN:VTIMEZONE
TZID:Europe/Paris
X-LIC-LOCATION:Europe/Paris
BEGIN:DAYLIGHT
DTSTART:20240331T030000
TZOFFSETFROM:+0100
TZOFFSETTO:+0200
TZNAME:CEST
END:DAYLIGHT
END:VTIMEZONE
END:VCALENDAR