BEGIN:VCALENDAR
VERSION:2.0
PRODID:-//wp-events-plugin.com//7.2.3.1//EN
BEGIN:VEVENT
UID:284@16ruedeplaisance.org
DTSTART;TZID=Europe/Paris;VALUE=DATE:20220724
DTEND;TZID=Europe/Paris;VALUE=DATE:20220726
DTSTAMP:20220614T073844Z
URL:https://www.16ruedeplaisance.org/evenements/ma-place-a-table-avec-le-c
 cas-2/
SUMMARY:Ma place à table avec le CCAS
DESCRIPTION:TOURNÉE EN NORMANDIE ET EN BRETAGNE\n\nLe 24 PLOUEZEC Village 
 vacances CCAS 25 Hent Gwaz An Tallig\n\nLe 25 POULLAOUEN Village vacances 
 CCAS Domaine de Gwel Kaer RN 134
ATTACH;FMTTYPE=image/jpeg:https://www.16ruedeplaisance.org/wp-content/uplo
 ads/2018/12/Présentation-Frêres-Pavlov-Web-06.jpg
CATEGORIES:Les frères Pablof
LOCATION:CCAS activités culturelles\, 8 rue de Rosny\, Montreuil\, 93104\,
  France
GEO:48.860818;2.444571
X-APPLE-STRUCTURED-LOCATION;VALUE=URI;X-ADDRESS=8 rue de Rosny\, Montreuil\
 , 93104\, France;X-APPLE-RADIUS=100;X-TITLE=CCAS activités culturelles:ge
 o:48.860818,2.444571
END:VEVENT
BEGIN:VTIMEZONE
TZID:Europe/Paris
X-LIC-LOCATION:Europe/Paris
BEGIN:DAYLIGHT
DTSTART:20220327T030000
TZOFFSETFROM:+0100
TZOFFSETTO:+0200
TZNAME:CEST
END:DAYLIGHT
END:VTIMEZONE
END:VCALENDAR