BEGIN:VCALENDAR
VERSION:2.0
PRODID:-//wp-events-plugin.com//7.2.3.1//EN
BEGIN:VEVENT
UID:434@16ruedeplaisance.org
DTSTART;TZID=Europe/Paris;VALUE=DATE:20250331
DTEND;TZID=Europe/Paris;VALUE=DATE:20250405
DTSTAMP:20250328T144258Z
URL:https://www.16ruedeplaisance.org/evenements/pablof-chez-robert-residen
 ce-de-territoire/
SUMMARY:Pablof - Chez Robert résidence de territoire -
DESCRIPTION:\n\n\n\n\n\n\n\n\n\n\n\n\n\n\n\n\n\n\n\nUn spectacle \n\nSal T
 remlez à Tréméloir\n\nMAR 1er AVR 19h\n\n&nbsp\;\n\nMA PLACE À TABLE\n
 \n&nbsp\;\n\nDans l’intimité d’un temps de repas en famille\, les con
 vives prennent place\nautour d’une grande nappe à carreaux. Les Frères
  Pablof cuisinent et tentent de raconter leur fratrie\, ce qui les réuni
 t. Des petits bouts d’histoire pour donner à penser les familles\, cel
 les qu’on subit\, celles qu’on rêve et celles qu’on se crée.\n\n&
 nbsp\;\n\nRéservation vivement conseillée \n\n&nbsp\;\n\n\n\n\n\n\n\n\n
 \n\n\n\n\n\n\n\n\n\n\n\n\n\n\n\n\n\n\n\n\n\n\n\n\n\n\n\n\n\n\n\n\n\n\n\n\n
 \n\n\n\n\n\n\n\n\n\n\nProjection de courts-métrages à la médiathèque\n
 \nMER 2 AVR de 10h à 12h puis de 14h à 16h30\n\n\n\n\n\n\n\n\n\n\n\n\n\n
 \n\n\n\n\n\n\n\n\n\n\n\n\n\n\n\n\n\n\n\n\n\n\n\n\n\nProjection de courts-m
 étrages chez Robert\n\nJEU 3 AVR 20h\n\n&nbsp\;\n\n\n\n\n\n\n\n\n\n\n\n\n
 \n\n\n\n\n\n\n\n\n\n\n\n\n\n\n\n\n\n\n\n\n\n\nAtelier d'écriture à la m
 édiathèque\n\nSAM 5 AVR de 10h à 12h\n\n&nbsp\;\n\n\n\n\n\n\n\n\n\n\n\n
 \n\n\n\n\n\n\n\n\n\n\n\n\n\n\n\n\n\n\n\n\n\n\n\nCollecte de témoignages\n
 \nDu 31 MAR au 4 AVR\n\nRendez-vous en journée ou en soirée\n\n&nbsp\;\n
 \nGratuit - Infos et inscription  : 02 96 79 12 96 - villerobert@pordic.f
 r\n\n\n\n\n\n\n\n\n\n\n\n\n\n\n\n\n\n\n\n&nbsp\;\n\n\nCelles et ceux parmi
  vous qui ont vu et apprécié le spectacle "Ma place à table" sont invit
 é.es à en parler autour d'eux ! Il reste de la place sur la séance du 1
 er avril qui sera la dernière.\n\n\n\n\n\nCelles et ceux qui sont impatie
 nt.es de le découvrir : bienvenue !\nAttention\, petite jauge\, il est pl
 us prudent de réserver : 02 96 79 12 96 / villerobert@pordic.fr\n\n&nbsp\
 ;
ATTACH;FMTTYPE=image/jpeg:https://www.16ruedeplaisance.org/wp-content/uplo
 ads/2025/01/figure-florales-1-scaled.jpg
CATEGORIES:Les frères Pablof
LOCATION:Centre culturel de la Ville Robert\, Rue Louis Massignon\, Pordic\
 , France
GEO:48.5719775;-2.8185740000000123
X-APPLE-STRUCTURED-LOCATION;VALUE=URI;X-ADDRESS=Rue Louis Massignon\, Pordi
 c\, France;X-APPLE-RADIUS=100;X-TITLE=Centre culturel de la Ville Robert:g
 eo:48.5719775,-2.8185740000000123
END:VEVENT
BEGIN:VTIMEZONE
TZID:Europe/Paris
X-LIC-LOCATION:Europe/Paris
BEGIN:DAYLIGHT
DTSTART:20250330T030000
TZOFFSETFROM:+0100
TZOFFSETTO:+0200
TZNAME:CEST
END:DAYLIGHT
END:VTIMEZONE
END:VCALENDAR