BEGIN:VCALENDAR
VERSION:2.0
PRODID:-//wp-events-plugin.com//7.2.3.1//EN
BEGIN:VEVENT
UID:398@16ruedeplaisance.org
DTSTART;TZID=Europe/Paris;VALUE=DATE:20240914
DTEND;TZID=Europe/Paris;VALUE=DATE:20240915
DTSTAMP:20241003T072612Z
URL:https://www.16ruedeplaisance.org/evenements/pablof-des-chateaux-en-esp
 agne-trios-theatre-du-blavet/
SUMMARY:Pablof - Des Châteaux en Espagne - TRIO'S theatre du Blavet - Henn
 ebont
DESCRIPTION:Tout savoir ici \n\n\n&nbsp\;
ATTACH;FMTTYPE=image/jpeg:https://www.16ruedeplaisance.org/wp-content/uplo
 ads/2023/02/PHOTO-2023-01-24-10-15-26-12.jpg
CATEGORIES:Les frères Pablof
LOCATION:Trio...s - Théâtre du Blavet\,  Rue François le Lève\, Inzinza
 c Lochrist\, 56650\, France
GEO:47.82739;-3.2540500000000065
X-APPLE-STRUCTURED-LOCATION;VALUE=URI;X-ADDRESS= Rue François le Lève\, I
 nzinzac Lochrist\, 56650\, France;X-APPLE-RADIUS=100;X-TITLE=Trio...s - Th
 éâtre du Blavet:geo:47.82739,-3.2540500000000065
END:VEVENT
BEGIN:VTIMEZONE
TZID:Europe/Paris
X-LIC-LOCATION:Europe/Paris
BEGIN:DAYLIGHT
DTSTART:20240331T030000
TZOFFSETFROM:+0100
TZOFFSETTO:+0200
TZNAME:CEST
END:DAYLIGHT
END:VTIMEZONE
END:VCALENDAR