BEGIN:VCALENDAR
VERSION:2.0
PRODID:-//wp-events-plugin.com//7.2.3.1//EN
BEGIN:VEVENT
UID:488@16ruedeplaisance.org
DTSTART;TZID=Europe/Paris;VALUE=DATE:20260207
DTEND;TZID=Europe/Paris;VALUE=DATE:20260208
DTSTAMP:20260121T113627Z
URL:https://www.16ruedeplaisance.org/evenements/pablof-ma-place-a-table-br
 enillis/
SUMMARY:Pablof - Ma place à table  - Brenillis
DESCRIPTION:Dans le cadre de la résidence des frères Pablof "l'Arche de N
 oé est un bateau mouche" dans les monts d'Arrée avec le Parc Naturel Ré
 gional d'Armorique\, Très tôt Théâtre et le RPI de Brenillis\, La Feui
 llée et Loquefret\n\nSamedi 7 février 2036 à 11h-14h30-16h30.\n\nAttent
 ion\, la jauge est réduite pensez à réservez au près du RPI
ATTACH;FMTTYPE=image/jpeg:https://www.16ruedeplaisance.org/wp-content/uplo
 ads/2018/12/Présentation-Frêres-Pavlov-Web-06.jpg
CATEGORIES:Les frères Pablof
LOCATION:PNRA et TRES TOT THEATRE\, Salle des fêtes de Brenillis\, Brenill
 is\, 29\, 28690\, Bretagne\, France
GEO:48.357285;-3.85065
X-APPLE-STRUCTURED-LOCATION;VALUE=URI;X-ADDRESS=Salle des fêtes de Brenill
 is\, Brenillis\, 29\, 28690\, Bretagne\, France;X-APPLE-RADIUS=100;X-TITLE
 =PNRA et TRES TOT THEATRE:geo:48.357285,-3.85065
END:VEVENT
BEGIN:VTIMEZONE
TZID:Europe/Paris
X-LIC-LOCATION:Europe/Paris
BEGIN:STANDARD
DTSTART:20251026T020000
TZOFFSETFROM:+0200
TZOFFSETTO:+0100
TZNAME:CET
END:STANDARD
END:VTIMEZONE
END:VCALENDAR