BEGIN:VCALENDAR
VERSION:2.0
PRODID:-//wp-events-plugin.com//7.2.3.1//EN
BEGIN:VEVENT
UID:383@16ruedeplaisance.org
DTSTART;TZID=Europe/Paris;VALUE=DATE:20240331
DTEND;TZID=Europe/Paris;VALUE=DATE:20240401
DTSTAMP:20240301T131944Z
URL:https://www.16ruedeplaisance.org/evenements/pablof-ma-place-a-table-ch
 acam/
SUMMARY:Pablof - Ma place à table  Chacam
DESCRIPTION:L'organisateur est ici
ATTACH;FMTTYPE=image/jpeg:https://www.16ruedeplaisance.org/wp-content/uplo
 ads/2018/12/Présentation-Frêres-Pavlov-Web-06.jpg
CATEGORIES:Les frères Pablof
LOCATION:Association CHACAM\, Le bourg\, LUCQ DE BEARN\, 64360\, France
GEO:43.287461;-0.659131
X-APPLE-STRUCTURED-LOCATION;VALUE=URI;X-ADDRESS=Le bourg\, LUCQ DE BEARN\, 
 64360\, France;X-APPLE-RADIUS=100;X-TITLE=Association CHACAM:geo:43.287461
 ,-0.659131
END:VEVENT
BEGIN:VTIMEZONE
TZID:Europe/Paris
X-LIC-LOCATION:Europe/Paris
BEGIN:STANDARD
DTSTART:20231029T020000
TZOFFSETFROM:+0200
TZOFFSETTO:+0100
TZNAME:CET
END:STANDARD
BEGIN:DAYLIGHT
DTSTART:20240331T030000
TZOFFSETFROM:+0100
TZOFFSETTO:+0200
TZNAME:CEST
END:DAYLIGHT
END:VTIMEZONE
END:VCALENDAR