BEGIN:VCALENDAR
VERSION:2.0
PRODID:-//wp-events-plugin.com//7.2.3.1//EN
BEGIN:VEVENT
UID:433@16ruedeplaisance.org
DTSTART;TZID=Europe/Paris;VALUE=DATE:20250211
DTEND;TZID=Europe/Paris;VALUE=DATE:20250215
DTSTAMP:20250120T094250Z
URL:https://www.16ruedeplaisance.org/evenements/pablof-ma-place-a-table-ch
 ez-robert-residence-de-territoire/
SUMMARY:Pablof - Ma place à table  - Chez Robert résidence de territoire 
 -
DESCRIPTION:Le spectacle se joue dans le cadre de la résidence de territoi
 re à la Ville Robert\, chez l'habitant en soirée et le 12 au pole Jeunes
 se à 18h30\n\n&nbsp\;
ATTACH;FMTTYPE=image/jpeg:https://www.16ruedeplaisance.org/wp-content/uplo
 ads/2018/12/Présentation-Frêres-Pavlov-Web-06.jpg
CATEGORIES:Les frères Pablof
LOCATION:Centre culturel de la Ville Robert\, Rue Louis Massignon\, Pordic\
 , France
GEO:48.5719775;-2.8185740000000123
X-APPLE-STRUCTURED-LOCATION;VALUE=URI;X-ADDRESS=Rue Louis Massignon\, Pordi
 c\, France;X-APPLE-RADIUS=100;X-TITLE=Centre culturel de la Ville Robert:g
 eo:48.5719775,-2.8185740000000123
END:VEVENT
BEGIN:VTIMEZONE
TZID:Europe/Paris
X-LIC-LOCATION:Europe/Paris
BEGIN:STANDARD
DTSTART:20241027T020000
TZOFFSETFROM:+0200
TZOFFSETTO:+0100
TZNAME:CET
END:STANDARD
END:VTIMEZONE
END:VCALENDAR