BEGIN:VCALENDAR
VERSION:2.0
PRODID:-//wp-events-plugin.com//7.2.3.1//EN
BEGIN:VEVENT
UID:470@16ruedeplaisance.org
DTSTART;TZID=Europe/Paris;VALUE=DATE:20250401
DTEND;TZID=Europe/Paris;VALUE=DATE:20250402
DTSTAMP:20250328T144054Z
URL:https://www.16ruedeplaisance.org/evenements/pablof-ma-place-a-table-ch
 ez-robert/
SUMMARY:Pablof - Ma place à table  - Chez Robert
DESCRIPTION:19h salle des fêtes de Tremeloir\n\nReservation à la Ville Ro
 bert.\n\nTéléphone : 02 96 79 12 96\nÉcrire par courriel à villerober
 t\n\n&nbsp\;
ATTACH;FMTTYPE=image/jpeg:https://www.16ruedeplaisance.org/wp-content/uplo
 ads/2018/12/Présentation-Frêres-Pavlov-Web-06.jpg
CATEGORIES:Les frères Pablof
LOCATION:Centre culturel de la Ville Robert\, Rue Louis Massignon\, Pordic\
 , France
GEO:48.5719775;-2.8185740000000123
X-APPLE-STRUCTURED-LOCATION;VALUE=URI;X-ADDRESS=Rue Louis Massignon\, Pordi
 c\, France;X-APPLE-RADIUS=100;X-TITLE=Centre culturel de la Ville Robert:g
 eo:48.5719775,-2.8185740000000123
END:VEVENT
BEGIN:VTIMEZONE
TZID:Europe/Paris
X-LIC-LOCATION:Europe/Paris
BEGIN:DAYLIGHT
DTSTART:20250330T030000
TZOFFSETFROM:+0100
TZOFFSETTO:+0200
TZNAME:CEST
END:DAYLIGHT
END:VTIMEZONE
END:VCALENDAR