BEGIN:VCALENDAR
VERSION:2.0
PRODID:-//wp-events-plugin.com//7.2.3.1//EN
BEGIN:VEVENT
UID:477@16ruedeplaisance.org
DTSTART;TZID=Europe/Paris;VALUE=DATE:20251211
DTEND;TZID=Europe/Paris;VALUE=DATE:20251213
DTSTAMP:20250903T091638Z
URL:https://www.16ruedeplaisance.org/evenements/pablof-ma-place-a-table-la
 ille/
SUMMARY:Pablof - Ma place à table  - Laillé
DESCRIPTION:Reserver ici\n\nVendredi 12 décembre 20h30
ATTACH;FMTTYPE=image/jpeg:https://www.16ruedeplaisance.org/wp-content/uplo
 ads/2018/12/Présentation-Frêres-Pavlov-Web-06.jpg
CATEGORIES:Les frères Pablof
LOCATION:Saison culturelle douzemois Laillé\, Mairie\, Laillé\, 35\, Fran
 ce
GEO:47.978753;-1.721395
X-APPLE-STRUCTURED-LOCATION;VALUE=URI;X-ADDRESS=Mairie\, Laillé\, 35\, Fra
 nce;X-APPLE-RADIUS=100;X-TITLE=Saison culturelle douzemois Laillé:geo:47.
 978753,-1.721395
END:VEVENT
BEGIN:VTIMEZONE
TZID:Europe/Paris
X-LIC-LOCATION:Europe/Paris
BEGIN:STANDARD
DTSTART:20251026T020000
TZOFFSETFROM:+0200
TZOFFSETTO:+0100
TZNAME:CET
END:STANDARD
END:VTIMEZONE
END:VCALENDAR