BEGIN:VCALENDAR
VERSION:2.0
PRODID:-//wp-events-plugin.com//7.2.3.1//EN
BEGIN:VEVENT
UID:430@16ruedeplaisance.org
DTSTART;TZID=Europe/Paris;VALUE=DATE:20241218
DTEND;TZID=Europe/Paris;VALUE=DATE:20241219
DTSTAMP:20241127T081558Z
URL:https://www.16ruedeplaisance.org/evenements/pablof-ma-place-a-table-le
 -grand-cordel-archipel-habitat/
SUMMARY:Pablof - Ma place à table  - Le grand Cordel / Archipel Habitat
DESCRIPTION:Le spectacle se joue à 16h dans le quartier HLM
ATTACH;FMTTYPE=image/jpeg:https://www.16ruedeplaisance.org/wp-content/uplo
 ads/2018/12/Présentation-Frêres-Pavlov-Web-06.jpg
CATEGORIES:Les frères Pablof
LOCATION:MJC DU GRAND CORDEL\, 18 rue des Plantes\, Rennes\, France
GEO:48.1220478;-1.648147300000005
X-APPLE-STRUCTURED-LOCATION;VALUE=URI;X-ADDRESS=18 rue des Plantes\, Rennes
 \, France;X-APPLE-RADIUS=100;X-TITLE=MJC DU GRAND CORDEL:geo:48.1220478,-1
 .648147300000005
END:VEVENT
BEGIN:VTIMEZONE
TZID:Europe/Paris
X-LIC-LOCATION:Europe/Paris
BEGIN:STANDARD
DTSTART:20241027T020000
TZOFFSETFROM:+0200
TZOFFSETTO:+0100
TZNAME:CET
END:STANDARD
END:VTIMEZONE
END:VCALENDAR