BEGIN:VCALENDAR
VERSION:2.0
PRODID:-//wp-events-plugin.com//7.2.3.1//EN
BEGIN:VEVENT
UID:393@16ruedeplaisance.org
DTSTART;TZID=Europe/Paris;VALUE=DATE:20241112
DTEND;TZID=Europe/Paris;VALUE=DATE:20241114
DTSTAMP:20240609T202135Z
URL:https://www.16ruedeplaisance.org/evenements/pablof-ma-place-a-table-le
 -tas-de-sable-albert-et-alentour/
SUMMARY:Pablof - Ma place à table  - Le tas de Sable -Albert et alentour
DESCRIPTION:Option
ATTACH;FMTTYPE=image/jpeg:https://www.16ruedeplaisance.org/wp-content/uplo
 ads/2018/12/Présentation-Frêres-Pavlov-Web-06.jpg
CATEGORIES:Les frères Pablof
LOCATION:Le tas de Sable - ches penses vertes - CNMA\, Le tas de sable 1 bi
 s rue d’Allonville\, Rivery\, 80136 \, France
GEO:49.924188;2.333644
X-APPLE-STRUCTURED-LOCATION;VALUE=URI;X-ADDRESS=Le tas de sable 1 bis rue d
 ’Allonville\, Rivery\, 80136 \, France;X-APPLE-RADIUS=100;X-TITLE=Le tas
  de Sable - ches penses vertes - CNMA:geo:49.924188,2.333644
END:VEVENT
BEGIN:VTIMEZONE
TZID:Europe/Paris
X-LIC-LOCATION:Europe/Paris
BEGIN:STANDARD
DTSTART:20241027T020000
TZOFFSETFROM:+0200
TZOFFSETTO:+0100
TZNAME:CET
END:STANDARD
END:VTIMEZONE
END:VCALENDAR