BEGIN:VCALENDAR
VERSION:2.0
PRODID:-//wp-events-plugin.com//7.2.3.1//EN
BEGIN:VEVENT
UID:389@16ruedeplaisance.org
DTSTART;TZID=Europe/Paris;VALUE=DATE:20241016
DTEND;TZID=Europe/Paris;VALUE=DATE:20241017
DTSTAMP:20240429T083710Z
URL:https://www.16ruedeplaisance.org/evenements/pablof-ma-place-a-table-vi
 lle-de-meru/
SUMMARY:Pablof - Ma place à table  - Ville de Méru
DESCRIPTION:
ATTACH;FMTTYPE=image/jpeg:https://www.16ruedeplaisance.org/wp-content/uplo
 ads/2018/12/Présentation-Frêres-Pavlov-Web-06.jpg
CATEGORIES:Les frères Pablof
LOCATION:Centre culturel le Domino\, Place de l'hotel de ville\, Méru\, 60
 110\, France
GEO:49.236237;2.134792
X-APPLE-STRUCTURED-LOCATION;VALUE=URI;X-ADDRESS=Place de l'hotel de ville\,
  Méru\, 60110\, France;X-APPLE-RADIUS=100;X-TITLE=Centre culturel le Domi
 no:geo:49.236237,2.134792
END:VEVENT
BEGIN:VTIMEZONE
TZID:Europe/Paris
X-LIC-LOCATION:Europe/Paris
BEGIN:DAYLIGHT
DTSTART:20240331T030000
TZOFFSETFROM:+0100
TZOFFSETTO:+0200
TZNAME:CEST
END:DAYLIGHT
END:VTIMEZONE
END:VCALENDAR