BEGIN:VCALENDAR
VERSION:2.0
PRODID:-//wp-events-plugin.com//7.2.3.1//EN
BEGIN:VEVENT
UID:378@16ruedeplaisance.org
DTSTART;TZID=Europe/Paris;VALUE=DATE:20240130
DTEND;TZID=Europe/Paris;VALUE=DATE:20240131
DTSTAMP:20240115T095840Z
URL:https://www.16ruedeplaisance.org/evenements/pablof-presentation-de-que
 -notre-joie-demeure-a-plus-dans-le-bus-bretagne-en-scene/
SUMMARY:Pablof - Présentation de Que notre joie demeure / A plus dans le B
 us / Bretagne en scène
DESCRIPTION:Présentation de projet avec Bretagne en scène\, c'est par ici
  
ATTACH;FMTTYPE=image/jpeg:https://www.16ruedeplaisance.org/wp-content/uplo
 ads/2022/06/Chateau-en-Espagne-Ruban-scaled.jpg
CATEGORIES:Les frères Pablof
LOCATION:Espace Laurenn Glenmor - Centre culturel et de congrès\, Rue Jean
  Monet\, Carhaix\, 29270\, France
GEO:48.27366;-3.560039
X-APPLE-STRUCTURED-LOCATION;VALUE=URI;X-ADDRESS=Rue Jean Monet\, Carhaix\, 
 29270\, France;X-APPLE-RADIUS=100;X-TITLE=Espace Laurenn Glenmor - Centre 
 culturel et de congrès:geo:48.27366,-3.560039
END:VEVENT
BEGIN:VTIMEZONE
TZID:Europe/Paris
X-LIC-LOCATION:Europe/Paris
BEGIN:STANDARD
DTSTART:20231029T020000
TZOFFSETFROM:+0200
TZOFFSETTO:+0100
TZNAME:CET
END:STANDARD
END:VTIMEZONE
END:VCALENDAR