BEGIN:VCALENDAR
VERSION:2.0
PRODID:-//wp-events-plugin.com//7.2.3.1//EN
BEGIN:VEVENT
UID:431@16ruedeplaisance.org
DTSTART;TZID=Europe/Paris;VALUE=DATE:20250619
DTEND;TZID=Europe/Paris;VALUE=DATE:20250620
DTSTAMP:20250130T122524Z
URL:https://www.16ruedeplaisance.org/evenements/pablof-que-notre-joie-deme
 ure-espace-jeliotte-2/
SUMMARY:Pablof - Que notre joie demeure ! - Service culturel du pays de Nay
DESCRIPTION:Premières du spectacle suites\nEn option\n\n&nbsp\;
ATTACH;FMTTYPE=image/jpeg:https://www.16ruedeplaisance.org/wp-content/uplo
 ads/2025/01/freres_Pablof_Jeanne_Paturel-Carte-com_HD3-scaled.jpg
CATEGORIES:Les frères Pablof
LOCATION:Espace culturel du pays de Naye\, 250 rue Montplaisir\, Benejacq\,
  64800\, France
GEO:43.184478;-0.237604
X-APPLE-STRUCTURED-LOCATION;VALUE=URI;X-ADDRESS=250 rue Montplaisir\, Benej
 acq\, 64800\, France;X-APPLE-RADIUS=100;X-TITLE=Espace culturel du pays de
  Naye:geo:43.184478,-0.237604
END:VEVENT
BEGIN:VTIMEZONE
TZID:Europe/Paris
X-LIC-LOCATION:Europe/Paris
BEGIN:DAYLIGHT
DTSTART:20250330T030000
TZOFFSETFROM:+0100
TZOFFSETTO:+0200
TZNAME:CEST
END:DAYLIGHT
END:VTIMEZONE
END:VCALENDAR