BEGIN:VCALENDAR
VERSION:2.0
PRODID:-//wp-events-plugin.com//7.2.3.1//EN
BEGIN:VEVENT
UID:397@16ruedeplaisance.org
DTSTART;TZID=Europe/Paris;VALUE=DATE:20250317
DTEND;TZID=Europe/Paris;VALUE=DATE:20250318
DTSTAMP:20250311T105949Z
URL:https://www.16ruedeplaisance.org/evenements/pablof-que-notre-joie-deme
 ure-festival-meliscenes/
SUMMARY:Pablof - Que notre joie demeure ! - Festival Méliscènes - Auray
DESCRIPTION:Lundi 17 Mars deux départs 19h30 et 20h pour réserver : ici\n
 \n&nbsp\;\n\n&nbsp\;
ATTACH;FMTTYPE=image/jpeg:https://www.16ruedeplaisance.org/wp-content/uplo
 ads/2025/01/freres_Pablof_Jeanne_Paturel-Carte-com_HD3-scaled.jpg
CATEGORIES:Les frères Pablof
LOCATION:festival Méliscènes\, Place du Gohlérez\, Auray\, France
GEO:47.6656381;-2.989502000000016
X-APPLE-STRUCTURED-LOCATION;VALUE=URI;X-ADDRESS=Place du Gohlérez\, Auray\
 , France;X-APPLE-RADIUS=100;X-TITLE=festival Méliscènes:geo:47.6656381,-
 2.989502000000016
END:VEVENT
BEGIN:VTIMEZONE
TZID:Europe/Paris
X-LIC-LOCATION:Europe/Paris
BEGIN:STANDARD
DTSTART:20241027T020000
TZOFFSETFROM:+0200
TZOFFSETTO:+0100
TZNAME:CET
END:STANDARD
END:VTIMEZONE
END:VCALENDAR