BEGIN:VCALENDAR
VERSION:2.0
PRODID:-//wp-events-plugin.com//7.2.3.1//EN
BEGIN:VEVENT
UID:395@16ruedeplaisance.org
DTSTART;TZID=Europe/Paris;VALUE=DATE:20250614
DTEND;TZID=Europe/Paris;VALUE=DATE:20250615
DTSTAMP:20250130T122347Z
URL:https://www.16ruedeplaisance.org/evenements/pablof-que-notre-joie-deme
 ure-la-ville-robert-pordic/
SUMMARY:Pablof - Que notre joie demeure ! - La Ville Robert Pordic
DESCRIPTION:Premières du spectacle suites\nDeux représentations 15h et 20
 H\nReservation\n\n\n&nbsp\;
ATTACH;FMTTYPE=image/jpeg:https://www.16ruedeplaisance.org/wp-content/uplo
 ads/2025/01/freres_Pablof_Jeanne_Paturel-Carte-com_HD3-scaled.jpg
CATEGORIES:Les frères Pablof
LOCATION:Centre culturel de la Ville Robert\, Rue Louis Massignon\, Pordic\
 , France
GEO:48.5719775;-2.8185740000000123
X-APPLE-STRUCTURED-LOCATION;VALUE=URI;X-ADDRESS=Rue Louis Massignon\, Pordi
 c\, France;X-APPLE-RADIUS=100;X-TITLE=Centre culturel de la Ville Robert:g
 eo:48.5719775,-2.8185740000000123
END:VEVENT
BEGIN:VTIMEZONE
TZID:Europe/Paris
X-LIC-LOCATION:Europe/Paris
BEGIN:DAYLIGHT
DTSTART:20250330T030000
TZOFFSETFROM:+0100
TZOFFSETTO:+0200
TZNAME:CEST
END:DAYLIGHT
END:VTIMEZONE
END:VCALENDAR