BEGIN:VCALENDAR
VERSION:2.0
PRODID:-//wp-events-plugin.com//7.2.3.1//EN
BEGIN:VEVENT
UID:388@16ruedeplaisance.org
DTSTART;TZID=Europe/Paris;VALUE=DATE:20250307
DTEND;TZID=Europe/Paris;VALUE=DATE:20250308
DTSTAMP:20250212T102132Z
URL:https://www.16ruedeplaisance.org/evenements/pablof-que-notre-joie-deme
 ure-saint-gilles/
SUMMARY:Pablof - Que notre joie demeure ! - Saint Gilles
DESCRIPTION:\n20h30\nPour réserver c'est ici\n\n&nbsp\;\n\n&nbsp\;
ATTACH;FMTTYPE=image/jpeg:https://www.16ruedeplaisance.org/wp-content/uplo
 ads/2025/01/freres_Pablof_Jeanne_Paturel-Carte-com_HD3-scaled.jpg
CATEGORIES:Les frères Pablof
LOCATION:Le Sabot d'Or\, Le Pont Hazard\, Saint Gilles\, France
GEO:48.15876230000001;-1.836373299999991
X-APPLE-STRUCTURED-LOCATION;VALUE=URI;X-ADDRESS=Le Pont Hazard\, Saint Gill
 es\, France;X-APPLE-RADIUS=100;X-TITLE=Le Sabot d'Or:geo:48.15876230000001
 ,-1.836373299999991
END:VEVENT
BEGIN:VTIMEZONE
TZID:Europe/Paris
X-LIC-LOCATION:Europe/Paris
BEGIN:STANDARD
DTSTART:20241027T020000
TZOFFSETFROM:+0200
TZOFFSETTO:+0100
TZNAME:CET
END:STANDARD
END:VTIMEZONE
END:VCALENDAR