BEGIN:VCALENDAR
VERSION:2.0
PRODID:-//wp-events-plugin.com//7.2.3.1//EN
BEGIN:VEVENT
UID:390@16ruedeplaisance.org
DTSTART;TZID=Europe/Paris;VALUE=DATE:20240627
DTEND;TZID=Europe/Paris;VALUE=DATE:20240704
DTSTAMP:20240429T085928Z
URL:https://www.16ruedeplaisance.org/evenements/pablof-residence-de-creati
 on-grain-de-sel/
SUMMARY:Pablof - Résidence de création - Grain de sel
DESCRIPTION:
ATTACH;FMTTYPE=image/jpeg:https://www.16ruedeplaisance.org/wp-content/uplo
 ads/2022/06/Chateau-en-Espagne-Ruban-scaled.jpg
CATEGORIES:Les frères Pablof
LOCATION:Centre culturel Grain de sel\, 5 ter rue des ecoles\, Séné\, 568
 60\, France
GEO:47.6186;-2.736527
X-APPLE-STRUCTURED-LOCATION;VALUE=URI;X-ADDRESS=5 ter rue des ecoles\, Sén
 é\, 56860\, France;X-APPLE-RADIUS=100;X-TITLE=Centre culturel Grain de se
 l:geo:47.6186,-2.736527
END:VEVENT
BEGIN:VTIMEZONE
TZID:Europe/Paris
X-LIC-LOCATION:Europe/Paris
BEGIN:DAYLIGHT
DTSTART:20240331T030000
TZOFFSETFROM:+0100
TZOFFSETTO:+0200
TZNAME:CEST
END:DAYLIGHT
END:VTIMEZONE
END:VCALENDAR