BEGIN:VCALENDAR
VERSION:2.0
PRODID:-//wp-events-plugin.com//7.2.3.1//EN
BEGIN:VEVENT
UID:363@16ruedeplaisance.org
DTSTART;TZID=Europe/Paris;VALUE=DATE:20240212
DTEND;TZID=Europe/Paris;VALUE=DATE:20240224
DTSTAMP:20231003T120037Z
URL:https://www.16ruedeplaisance.org/evenements/pablof-residence-de-creati
 on-lycee-theodore-monod-lagora/
SUMMARY:Pablof - Résidence de création - Lycée Theodore Monod
DESCRIPTION:Pour en savoir plus 
ATTACH;FMTTYPE=image/jpeg:https://www.16ruedeplaisance.org/wp-content/uplo
 ads/2022/06/Chateau-en-Espagne-Ruban-scaled.jpg
CATEGORIES:Les frères Pablof
LOCATION:L'Agora\, 3\, rue Cintré\, Le Rheu\, 35650\, France
GEO:48.099803;-1.796024
X-APPLE-STRUCTURED-LOCATION;VALUE=URI;X-ADDRESS=3\, rue Cintré\, Le Rheu\,
  35650\, France;X-APPLE-RADIUS=100;X-TITLE=L'Agora:geo:48.099803,-1.796024
END:VEVENT
BEGIN:VTIMEZONE
TZID:Europe/Paris
X-LIC-LOCATION:Europe/Paris
BEGIN:STANDARD
DTSTART:20231029T020000
TZOFFSETFROM:+0200
TZOFFSETTO:+0100
TZNAME:CET
END:STANDARD
END:VTIMEZONE
END:VCALENDAR