BEGIN:VCALENDAR
VERSION:2.0
PRODID:-//wp-events-plugin.com//7.2.3.1//EN
BEGIN:VEVENT
UID:476@16ruedeplaisance.org
DTSTART;TZID=Europe/Paris;VALUE=DATE:20250912
DTEND;TZID=Europe/Paris;VALUE=DATE:20250913
DTSTAMP:20250903T090206Z
URL:https://www.16ruedeplaisance.org/evenements/pablof-sieste-sauvage-bivo
 uac-au-square-maurice-thorez-le-trios/
SUMMARY:Pablof - Sieste Sauvage - Bivouac au square Maurice Thorez -Le Trio
 's
DESCRIPTION:Radio Pablof propose une sieste sauvage !\n\nDans le cadre de l
 a fête de Quartier de Keriou-Ker et de la résidence artistique des Frèr
 es Pablofs\n\nDormir sous une tente juste en bas de chez soi\, plus préci
 sément dans le parc de la Cité Thorez\, c'est faire un pas de côté. C'
 est partir à l'aventure\, à la rencontre des autres et des sursauts de n
 ature au cœur de la ville.\n\nÉcouter des histoires\, partager un pique-
 nique\, prendre le temps de discuter et de laisser venir la nuit étoilée
 .\n\nUne aventure grande et minuscule à la fois.\n\nUn projet décalé\, 
 avec les Frères Pablofs\, et proposé par\n\nTRIO...S et Cordée Cordage.
 \n\n
ATTACH;FMTTYPE=image/jpeg:https://www.16ruedeplaisance.org/wp-content/uplo
 ads/2025/09/DSC03404-scaled.jpg
CATEGORIES:Les frères Pablof
LOCATION:Trio...s - Théâtre du Blavet\,  Rue François le Lève\, Inzinza
 c Lochrist\, 56650\, France
GEO:47.82739;-3.2540500000000065
X-APPLE-STRUCTURED-LOCATION;VALUE=URI;X-ADDRESS= Rue François le Lève\, I
 nzinzac Lochrist\, 56650\, France;X-APPLE-RADIUS=100;X-TITLE=Trio...s - Th
 éâtre du Blavet:geo:47.82739,-3.2540500000000065
END:VEVENT
BEGIN:VTIMEZONE
TZID:Europe/Paris
X-LIC-LOCATION:Europe/Paris
BEGIN:DAYLIGHT
DTSTART:20250330T030000
TZOFFSETFROM:+0100
TZOFFSETTO:+0200
TZNAME:CEST
END:DAYLIGHT
END:VTIMEZONE
END:VCALENDAR