BEGIN:VCALENDAR
VERSION:2.0
PRODID:-//wp-events-plugin.com//7.2.3.1//EN
BEGIN:VEVENT
UID:272@16ruedeplaisance.org
DTSTART;TZID=Europe/Paris;VALUE=DATE:20211019
DTEND;TZID=Europe/Paris;VALUE=DATE:20211028
DTSTAMP:20211001T085202Z
URL:https://www.16ruedeplaisance.org/evenements/permis-de-construire/
SUMMARY:Permis de construire
DESCRIPTION:L'exposition Permis de construire sera présentée pendant le f
 estival Marmaille à l'occasion d'une carte blanche donnée à Benoît Sic
 at à l'Espace Le Goffic - MJC de Pacé du 19 au 27 octobre 2021.\n\nBeno
 ît Sicat y présentera également Racine Carrée qui est une extension d'
 une pièce de l'exposition. Racine Carrée est modulable\, déplaçable de
  l'intérieur vers l'extérieur\, elle habille l'espace\, le traverse. Ell
 e est habitable et adoptable.
ATTACH;FMTTYPE=image/jpeg:https://www.16ruedeplaisance.org/wp-content/uplo
 ads/2021/10/RacineCarrée.jpg
CATEGORIES:Benoit Sicat
LOCATION:MJC de Pacé - Espace Le Goffic\, 6 avenue Charles Le Goffic\, Pac
 é\, France
X-APPLE-STRUCTURED-LOCATION;VALUE=URI;X-ADDRESS=6 avenue Charles Le Goffic\
 , Pacé\, France;X-APPLE-RADIUS=100;X-TITLE=MJC de Pacé - Espace Le Goffi
 c:geo:0,0
END:VEVENT
BEGIN:VTIMEZONE
TZID:Europe/Paris
X-LIC-LOCATION:Europe/Paris
BEGIN:DAYLIGHT
DTSTART:20210328T030000
TZOFFSETFROM:+0100
TZOFFSETTO:+0200
TZNAME:CEST
END:DAYLIGHT
END:VTIMEZONE
END:VCALENDAR