BEGIN:VCALENDAR
VERSION:2.0
PRODID:-//wp-events-plugin.com//7.2.3.1//EN
BEGIN:VEVENT
UID:392@16ruedeplaisance.org
DTSTART;TZID=Europe/Paris;VALUE=DATE:20240608
DTEND;TZID=Europe/Paris;VALUE=DATE:20240609
DTSTAMP:20240603T203339Z
URL:https://www.16ruedeplaisance.org/evenements/phare-48/
SUMMARY:Pablof - Phare 48
DESCRIPTION:Retrouvez les freres Pablof avec Coef 180 dans le quartier de L
 orette à partir de 14h ce samedi.\n\nUne journée de sortie de résidence
 .\n\nhttps://www.saint-malo.fr/actualites/samedi-8-juin-leco-quartier-de-l
 orette-sanime-avec-ses-artistes-en-residence/
ATTACH;FMTTYPE=image/jpeg:https://www.16ruedeplaisance.org/wp-content/uplo
 ads/2024/06/Capture-decran-2024-06-02-a-22.13.44-copie.jpg
CATEGORIES:Les frères Pablof
LOCATION:COEF 180\, Chemin des amoureux\, Saint Malo\, 35\, France
GEO:48.651513;-1.991842
X-APPLE-STRUCTURED-LOCATION;VALUE=URI;X-ADDRESS=Chemin des amoureux\, Saint
  Malo\, 35\, France;X-APPLE-RADIUS=100;X-TITLE=COEF 180:geo:48.651513,-1.9
 91842
END:VEVENT
BEGIN:VTIMEZONE
TZID:Europe/Paris
X-LIC-LOCATION:Europe/Paris
BEGIN:DAYLIGHT
DTSTART:20240331T030000
TZOFFSETFROM:+0100
TZOFFSETTO:+0200
TZNAME:CEST
END:DAYLIGHT
END:VTIMEZONE
END:VCALENDAR