BEGIN:VCALENDAR
VERSION:2.0
PRODID:-//wp-events-plugin.com//7.2.3.1//EN
BEGIN:VEVENT
UID:479@16ruedeplaisance.org
DTSTART;TZID=Europe/Paris:20251216T163000
DTEND;TZID=Europe/Paris:20251216T170000
DTSTAMP:20251208T120249Z
URL:https://www.16ruedeplaisance.org/evenements/presentation-de-projet-t-a
 -t-a-larche-de-noe/
SUMMARY:Présentation de projet T.A.T.A "l'arche de Noé"
DESCRIPTION:Dans le cadre des journées professionnelles\, les frères pré
 sentent leurs projet !\n\nToutes les informations sont ici :\n\n&nbsp\;
CATEGORIES:Les frères Pablof
LOCATION:Très Tôt Théâtre\, 4 bd Dupleix\, Quimper\, France
GEO:47.9949053;-4.098470499999962
X-APPLE-STRUCTURED-LOCATION;VALUE=URI;X-ADDRESS=4 bd Dupleix\, Quimper\, Fr
 ance;X-APPLE-RADIUS=100;X-TITLE=Très Tôt Théâtre:geo:47.9949053,-4.098
 470499999962
END:VEVENT
BEGIN:VTIMEZONE
TZID:Europe/Paris
X-LIC-LOCATION:Europe/Paris
BEGIN:STANDARD
DTSTART:20251026T020000
TZOFFSETFROM:+0200
TZOFFSETTO:+0100
TZNAME:CET
END:STANDARD
END:VTIMEZONE
END:VCALENDAR