BEGIN:VCALENDAR
VERSION:2.0
PRODID:-//wp-events-plugin.com//7.2.3.1//EN
BEGIN:VEVENT
UID:328@16ruedeplaisance.org
DTSTART;TZID=Europe/Paris;VALUE=DATE:20230406
DTEND;TZID=Europe/Paris;VALUE=DATE:20230526
DTSTAMP:20230403T120421Z
URL:https://www.16ruedeplaisance.org/evenements/quelque-chose-en-vues/
SUMMARY:Quelque chose en vue(s)
DESCRIPTION:
ATTACH;FMTTYPE=image/jpeg:https://www.16ruedeplaisance.org/wp-content/uplo
 ads/2022/11/20220224_132526-.jpg
CATEGORIES:Gwenaëlle Rebillard
LOCATION:La minuscule galerie\, 7\, rue Saint Louis\, RENNES\, 35000\, Fran
 ce
GEO:48.114009;-1.682219
X-APPLE-STRUCTURED-LOCATION;VALUE=URI;X-ADDRESS=7\, rue Saint Louis\, RENNE
 S\, 35000\, France;X-APPLE-RADIUS=100;X-TITLE=La minuscule galerie:geo:48.
 114009,-1.682219
END:VEVENT
BEGIN:VTIMEZONE
TZID:Europe/Paris
X-LIC-LOCATION:Europe/Paris
BEGIN:DAYLIGHT
DTSTART:20230326T030000
TZOFFSETFROM:+0100
TZOFFSETTO:+0200
TZNAME:CEST
END:DAYLIGHT
END:VTIMEZONE
END:VCALENDAR