BEGIN:VCALENDAR
VERSION:2.0
PRODID:-//wp-events-plugin.com//7.2.3.1//EN
BEGIN:VEVENT
UID:209@16ruedeplaisance.org
DTSTART;TZID=Europe/Paris:20190523T190000
DTEND;TZID=Europe/Paris:20190523T190000
DTSTAMP:20190514T095544Z
URL:https://www.16ruedeplaisance.org/evenements/quon-vive-2/
SUMMARY:Qu'on vive !
DESCRIPTION:Expérimentations en public ou avant premières....
ATTACH;FMTTYPE=image/jpeg:https://www.16ruedeplaisance.org/wp-content/uplo
 ads/2019/04/Elephant-rose-dans-lherbe.jpg
CATEGORIES:Les frères Pablof
LOCATION:Ateliers du Vent\, Rue Alexandre Duval\, Rennes\, France
GEO:48.10355389999999;-1.6944244999999682
X-APPLE-STRUCTURED-LOCATION;VALUE=URI;X-ADDRESS=Rue Alexandre Duval\, Renne
 s\, France;X-APPLE-RADIUS=100;X-TITLE=Ateliers du Vent:geo:48.103553899999
 99,-1.6944244999999682
END:VEVENT
BEGIN:VTIMEZONE
TZID:Europe/Paris
X-LIC-LOCATION:Europe/Paris
BEGIN:DAYLIGHT
DTSTART:20190331T030000
TZOFFSETFROM:+0100
TZOFFSETTO:+0200
TZNAME:CEST
END:DAYLIGHT
END:VTIMEZONE
END:VCALENDAR