BEGIN:VCALENDAR
VERSION:2.0
PRODID:-//wp-events-plugin.com//7.2.3.1//EN
BEGIN:VEVENT
UID:221@16ruedeplaisance.org
DTSTART;TZID=Europe/Paris;VALUE=DATE:20191009
DTEND;TZID=Europe/Paris;VALUE=DATE:20191012
DTSTAMP:20191002T074743Z
URL:https://www.16ruedeplaisance.org/evenements/quon-vive-3/
SUMMARY:Qu'on vive !
DESCRIPTION:Mercredi 9 octobre - 10h - Centre Paris Anim' Brancion (15ème 
 arrondissement)\n\nVendredi 11 octobre - 10h - Centre Paris Anim' Brancion
  (15ème arrondissement)
ATTACH;FMTTYPE=image/jpeg:https://www.16ruedeplaisance.org/wp-content/uplo
 ads/2019/04/Quon-vive-05-elephant3.jpg
CATEGORIES:Les frères Pablof
LOCATION:Festival la grande Echelle\, Parc George Brassens\, Paris 15\, 750
 15\, France
GEO:48.8313458;2.299668600000018
X-APPLE-STRUCTURED-LOCATION;VALUE=URI;X-ADDRESS=Parc George Brassens\, Pari
 s 15\, 75015\, France;X-APPLE-RADIUS=100;X-TITLE=Festival la grande Echell
 e:geo:48.8313458,2.299668600000018
END:VEVENT
BEGIN:VTIMEZONE
TZID:Europe/Paris
X-LIC-LOCATION:Europe/Paris
BEGIN:DAYLIGHT
DTSTART:20190331T030000
TZOFFSETFROM:+0100
TZOFFSETTO:+0200
TZNAME:CEST
END:DAYLIGHT
END:VTIMEZONE
END:VCALENDAR