BEGIN:VCALENDAR
VERSION:2.0
PRODID:-//wp-events-plugin.com//7.2.3.1//EN
BEGIN:VEVENT
UID:244@16ruedeplaisance.org
DTSTART;TZID=Europe/Paris;VALUE=DATE:20210313
DTEND;TZID=Europe/Paris;VALUE=DATE:20210322
DTSTAMP:20200519T085037Z
URL:https://www.16ruedeplaisance.org/evenements/quon-vive-6/
SUMMARY:Qu'on vive !
DESCRIPTION:dates a définir
ATTACH;FMTTYPE=image/jpeg:https://www.16ruedeplaisance.org/wp-content/uplo
 ads/2019/04/Quon-vive-05-elephant3.jpg
CATEGORIES:Les frères Pablof
LOCATION:Festival Mélliscene CC Athena\, Place du Gohlérez\, Auray\, 5640
 0\, France
GEO:47.6656381;-2.989502000000016
X-APPLE-STRUCTURED-LOCATION;VALUE=URI;X-ADDRESS=Place du Gohlérez\, Auray\
 , 56400\, France;X-APPLE-RADIUS=100;X-TITLE=Festival Mélliscene CC Athena
 :geo:47.6656381,-2.989502000000016
END:VEVENT
BEGIN:VTIMEZONE
TZID:Europe/Paris
X-LIC-LOCATION:Europe/Paris
BEGIN:STANDARD
DTSTART:20201025T020000
TZOFFSETFROM:+0200
TZOFFSETTO:+0100
TZNAME:CET
END:STANDARD
END:VTIMEZONE
END:VCALENDAR