BEGIN:VCALENDAR
VERSION:2.0
PRODID:-//wp-events-plugin.com//7.2.3.1//EN
BEGIN:VEVENT
UID:258@16ruedeplaisance.org
DTSTART;TZID=Europe/Paris;VALUE=DATE:20221112
DTEND;TZID=Europe/Paris;VALUE=DATE:20221114
DTSTAMP:20221010T195507Z
URL:https://www.16ruedeplaisance.org/evenements/quon-vive-7/
SUMMARY:Qu'on vive !
DESCRIPTION:Par ICI
ATTACH;FMTTYPE=image/jpeg:https://www.16ruedeplaisance.org/wp-content/uplo
 ads/2019/04/Quon-vive-05-elephant3.jpg
CATEGORIES:Les frères Pablof
LOCATION:Le Relecq-Kerhuon / Service culturel / La gare\, La gare\, Le Relr
 cq-Kerhuon\, 29\, France
GEO:48.40953;-4.388199
X-APPLE-STRUCTURED-LOCATION;VALUE=URI;X-ADDRESS=La gare\, Le Relrcq-Kerhuon
 \, 29\, France;X-APPLE-RADIUS=100;X-TITLE=Le Relecq-Kerhuon / Service cult
 urel / La gare:geo:48.40953,-4.388199
END:VEVENT
BEGIN:VTIMEZONE
TZID:Europe/Paris
X-LIC-LOCATION:Europe/Paris
BEGIN:STANDARD
DTSTART:20221030T020000
TZOFFSETFROM:+0200
TZOFFSETTO:+0100
TZNAME:CET
END:STANDARD
END:VTIMEZONE
END:VCALENDAR