BEGIN:VCALENDAR
VERSION:2.0
PRODID:-//wp-events-plugin.com//7.2.3.1//EN
BEGIN:VEVENT
UID:307@16ruedeplaisance.org
DTSTART;TZID=Europe/Paris;VALUE=DATE:20230302
DTEND;TZID=Europe/Paris;VALUE=DATE:20230304
DTSTAMP:20230210T091724Z
URL:https://www.16ruedeplaisance.org/evenements/quon-vive-9/
SUMMARY:Qu'on vive !
DESCRIPTION:Les infos sont ici\n\n19h30-20h30 Gare d'Hennebont
ATTACH;FMTTYPE=image/jpeg:https://www.16ruedeplaisance.org/wp-content/uplo
 ads/2019/04/Elephant-rose-dans-lherbe.jpg
CATEGORIES:Les frères Pablof
LOCATION:Trio...s - Théâtre du Blavet\,  Rue François le Lève\, Inzinza
 c Lochrist\, 56650\, France
GEO:47.82739;-3.2540500000000065
X-APPLE-STRUCTURED-LOCATION;VALUE=URI;X-ADDRESS= Rue François le Lève\, I
 nzinzac Lochrist\, 56650\, France;X-APPLE-RADIUS=100;X-TITLE=Trio...s - Th
 éâtre du Blavet:geo:47.82739,-3.2540500000000065
END:VEVENT
BEGIN:VTIMEZONE
TZID:Europe/Paris
X-LIC-LOCATION:Europe/Paris
BEGIN:STANDARD
DTSTART:20221030T020000
TZOFFSETFROM:+0200
TZOFFSETTO:+0100
TZNAME:CET
END:STANDARD
END:VTIMEZONE
END:VCALENDAR