BEGIN:VCALENDAR
VERSION:2.0
PRODID:-//wp-events-plugin.com//7.2.3.1//EN
BEGIN:VEVENT
UID:360@16ruedeplaisance.org
DTSTART;TZID=Europe/Paris:20230904T161500
DTEND;TZID=Europe/Paris:20230904T190000
DTSTAMP:20231002T072856Z
URL:https://www.16ruedeplaisance.org/evenements/racine-carree-2/
SUMMARY:Racine Carrée
DESCRIPTION:Racine Carrée est proposée pour fêter la rentrée de l'écol
 e maternelle de l'Hôtel Pasteur. Une version sur la place pour parents et
  enfants\, une autre dans la cour pour le périscolaire.
ATTACH;FMTTYPE=image/jpeg:https://www.16ruedeplaisance.org/wp-content/uplo
 ads/2023/10/DSC_0051-copie.jpeg
CATEGORIES:Benoit Sicat
LOCATION:Hôtel Pasteur\, Place Pasteur\, Rennes\, France
GEO:48.11021;-1.674198
X-APPLE-STRUCTURED-LOCATION;VALUE=URI;X-ADDRESS=Place Pasteur\, Rennes\, Fr
 ance;X-APPLE-RADIUS=100;X-TITLE=Hôtel Pasteur:geo:48.11021,-1.674198
END:VEVENT
BEGIN:VTIMEZONE
TZID:Europe/Paris
X-LIC-LOCATION:Europe/Paris
BEGIN:DAYLIGHT
DTSTART:20230326T030000
TZOFFSETFROM:+0100
TZOFFSETTO:+0200
TZNAME:CEST
END:DAYLIGHT
END:VTIMEZONE
END:VCALENDAR