BEGIN:VCALENDAR
VERSION:2.0
PRODID:-//wp-events-plugin.com//7.2.3.1//EN
BEGIN:VEVENT
UID:371@16ruedeplaisance.org
DTSTART;TZID=Europe/Paris;VALUE=DATE:20220524
DTEND;TZID=Europe/Paris;VALUE=DATE:20220527
DTSTAMP:20231031T093159Z
URL:https://www.16ruedeplaisance.org/evenements/racine-carree-3/
SUMMARY:Racine Carrée
DESCRIPTION:Dans le cadre du festival 1\,9\,3 soleil\, organisé par l'asso
 ciation éponyme.
ATTACH;FMTTYPE=image/jpeg:https://www.16ruedeplaisance.org/wp-content/uplo
 ads/2021/12/DSC_0040-copie-scaled.jpg
CATEGORIES:Benoit Sicat
LOCATION:Parc du Sausset\, avenue du Sausset\, Aulnay sous Bois\, France
GEO:48.96271;2.516604
X-APPLE-STRUCTURED-LOCATION;VALUE=URI;X-ADDRESS=avenue du Sausset\, Aulnay 
 sous Bois\, France;X-APPLE-RADIUS=100;X-TITLE=Parc du Sausset:geo:48.96271
 ,2.516604
END:VEVENT
BEGIN:VTIMEZONE
TZID:Europe/Paris
X-LIC-LOCATION:Europe/Paris
BEGIN:DAYLIGHT
DTSTART:20220327T030000
TZOFFSETFROM:+0100
TZOFFSETTO:+0200
TZNAME:CEST
END:DAYLIGHT
END:VTIMEZONE
END:VCALENDAR