BEGIN:VCALENDAR
VERSION:2.0
PRODID:-//wp-events-plugin.com//7.2.3.1//EN
BEGIN:VEVENT
UID:372@16ruedeplaisance.org
DTSTART;TZID=Europe/Paris;VALUE=DATE:20230402
DTEND;TZID=Europe/Paris;VALUE=DATE:20230403
DTSTAMP:20231031T093452Z
URL:https://www.16ruedeplaisance.org/evenements/racine-carree-4/
SUMMARY:Racine Carrée
DESCRIPTION:Dans le cadre de la Journée sur l'herbe\, Racine Carrée se d
 éploie au milieu d'une prairie.
ATTACH;FMTTYPE=image/jpeg:https://www.16ruedeplaisance.org/wp-content/uplo
 ads/2021/12/RacineCarrée-04.jpg
CATEGORIES:Benoit Sicat
LOCATION:Ecocentre de la Taupinais\, 535 chemin de la Taupinais\, Rennes\, 
 France
GEO:48.097973;-1.71904
X-APPLE-STRUCTURED-LOCATION;VALUE=URI;X-ADDRESS=535 chemin de la Taupinais\
 , Rennes\, France;X-APPLE-RADIUS=100;X-TITLE=Ecocentre de la Taupinais:geo
 :48.097973,-1.71904
END:VEVENT
BEGIN:VTIMEZONE
TZID:Europe/Paris
X-LIC-LOCATION:Europe/Paris
BEGIN:DAYLIGHT
DTSTART:20230326T030000
TZOFFSETFROM:+0100
TZOFFSETTO:+0200
TZNAME:CEST
END:DAYLIGHT
END:VTIMEZONE
END:VCALENDAR