BEGIN:VCALENDAR
VERSION:2.0
PRODID:-//wp-events-plugin.com//7.2.3.1//EN
BEGIN:VEVENT
UID:369@16ruedeplaisance.org
DTSTART;TZID=Europe/Paris;VALUE=DATE:20220308
DTEND;TZID=Europe/Paris;VALUE=DATE:20220314
DTSTAMP:20231031T091953Z
URL:https://www.16ruedeplaisance.org/evenements/racine-carree-semaine-figu
 re/
SUMMARY:Racine Carrée - Semaine FIGURE
DESCRIPTION:
ATTACH;FMTTYPE=image/jpeg:https://www.16ruedeplaisance.org/wp-content/uplo
 ads/2021/12/DSC_0040-copie-scaled.jpg
CATEGORIES:Benoit Sicat
LOCATION:Lillico Salle Guy Ropartz\, rue Guy Ropartz\, Rennes\, 35700\, Fra
 nce
GEO:48.129895;-1.656493
X-APPLE-STRUCTURED-LOCATION;VALUE=URI;X-ADDRESS=rue Guy Ropartz\, Rennes\, 
 35700\, France;X-APPLE-RADIUS=100;X-TITLE=Lillico Salle Guy Ropartz:geo:48
 .129895,-1.656493
END:VEVENT
BEGIN:VTIMEZONE
TZID:Europe/Paris
X-LIC-LOCATION:Europe/Paris
BEGIN:STANDARD
DTSTART:20211031T020000
TZOFFSETFROM:+0200
TZOFFSETTO:+0100
TZNAME:CET
END:STANDARD
END:VTIMEZONE
END:VCALENDAR