BEGIN:VCALENDAR
VERSION:2.0
PRODID:-//wp-events-plugin.com//7.2.3.1//EN
BEGIN:VEVENT
UID:352@16ruedeplaisance.org
DTSTART;TZID=Europe/Paris;VALUE=DATE:20231204
DTEND;TZID=Europe/Paris;VALUE=DATE:20231209
DTSTAMP:20231003T105320Z
URL:https://www.16ruedeplaisance.org/evenements/residence-de-creation-13/
SUMMARY:Pablof - Résidence de création
DESCRIPTION:Tout savoir sur l'Hôpitau
ATTACH;FMTTYPE=image/jpeg:https://www.16ruedeplaisance.org/wp-content/uplo
 ads/2022/06/Chateau-en-Espagne-Ruban-scaled.jpg
CATEGORIES:Les frères Pablof
LOCATION:L'hopitau La Chapelle sur Erdre\, L'hopitau Boulevard de l'Hopitau
 \, La Chapelle sur Erdre\, 44240\, France
GEO:47.269723;-1.552174
X-APPLE-STRUCTURED-LOCATION;VALUE=URI;X-ADDRESS=L'hopitau Boulevard de l'Ho
 pitau\, La Chapelle sur Erdre\, 44240\, France;X-APPLE-RADIUS=100;X-TITLE=
 L'hopitau La Chapelle sur Erdre:geo:47.269723,-1.552174
END:VEVENT
BEGIN:VTIMEZONE
TZID:Europe/Paris
X-LIC-LOCATION:Europe/Paris
BEGIN:STANDARD
DTSTART:20231029T020000
TZOFFSETFROM:+0200
TZOFFSETTO:+0100
TZNAME:CET
END:STANDARD
END:VTIMEZONE
END:VCALENDAR