BEGIN:VCALENDAR
VERSION:2.0
PRODID:-//wp-events-plugin.com//7.2.3.1//EN
BEGIN:VEVENT
UID:311@16ruedeplaisance.org
DTSTART;TZID=Europe/Paris;VALUE=DATE:20230605
DTEND;TZID=Europe/Paris;VALUE=DATE:20230618
DTSTAMP:20221010T182904Z
URL:https://www.16ruedeplaisance.org/evenements/residence-de-creation-3/
SUMMARY:Résidence de création
DESCRIPTION:Où nous rencontrer ? Ici !
ATTACH;FMTTYPE=image/jpeg:https://www.16ruedeplaisance.org/wp-content/uplo
 ads/2022/01/maison-rue-de-nantes-scaled.jpg
CATEGORIES:Les frères Pablof
LOCATION:Espace Jeliotte\, Rue de la Poste\, Oloron Sainte Marie\, 64400\, 
 France
GEO:43.19086350000001;-0.610464200000024
X-APPLE-STRUCTURED-LOCATION;VALUE=URI;X-ADDRESS=Rue de la Poste\, Oloron Sa
 inte Marie\, 64400\, France;X-APPLE-RADIUS=100;X-TITLE=Espace Jeliotte:geo
 :43.19086350000001,-0.610464200000024
END:VEVENT
BEGIN:VTIMEZONE
TZID:Europe/Paris
X-LIC-LOCATION:Europe/Paris
BEGIN:DAYLIGHT
DTSTART:20230326T030000
TZOFFSETFROM:+0100
TZOFFSETTO:+0200
TZNAME:CEST
END:DAYLIGHT
END:VTIMEZONE
END:VCALENDAR