BEGIN:VCALENDAR
VERSION:2.0
PRODID:-//wp-events-plugin.com//7.2.3.1//EN
BEGIN:VEVENT
UID:312@16ruedeplaisance.org
DTSTART;TZID=Europe/Paris;VALUE=DATE:20230116
DTEND;TZID=Europe/Paris;VALUE=DATE:20230122
DTSTAMP:20221010T183015Z
URL:https://www.16ruedeplaisance.org/evenements/residence-de-creation-4/
SUMMARY:Résidence de création
DESCRIPTION:Retrouvez nous ici
ATTACH;FMTTYPE=image/jpeg:https://www.16ruedeplaisance.org/wp-content/uplo
 ads/2022/01/maison-rue-de-nantes-scaled.jpg
CATEGORIES:Les frères Pablof
LOCATION:Centre culturel Athena\, place du golhorez\, Auray\, 56\, France
GEO:47.66649100000001;-2.9837669999999434
X-APPLE-STRUCTURED-LOCATION;VALUE=URI;X-ADDRESS=place du golhorez\, Auray\,
  56\, France;X-APPLE-RADIUS=100;X-TITLE=Centre culturel Athena:geo:47.6664
 9100000001,-2.9837669999999434
END:VEVENT
BEGIN:VTIMEZONE
TZID:Europe/Paris
X-LIC-LOCATION:Europe/Paris
BEGIN:STANDARD
DTSTART:20221030T020000
TZOFFSETFROM:+0200
TZOFFSETTO:+0100
TZNAME:CET
END:STANDARD
END:VTIMEZONE
END:VCALENDAR