BEGIN:VCALENDAR
VERSION:2.0
PRODID:-//wp-events-plugin.com//7.2.3.1//EN
BEGIN:VEVENT
UID:314@16ruedeplaisance.org
DTSTART;TZID=Europe/Paris;VALUE=DATE:20230502
DTEND;TZID=Europe/Paris;VALUE=DATE:20230508
DTSTAMP:20221010T183234Z
URL:https://www.16ruedeplaisance.org/evenements/residence-de-creation-6/
SUMMARY:Résidence de création
DESCRIPTION:Où nous retrouver ? ici aussi !
ATTACH;FMTTYPE=image/jpeg:https://www.16ruedeplaisance.org/wp-content/uplo
 ads/2022/01/maison-rue-de-nantes-scaled.jpg
CATEGORIES:Les frères Pablof
LOCATION:Centre culturel Athena\, place du golhorez\, Auray\, 56\, France
GEO:47.66649100000001;-2.9837669999999434
X-APPLE-STRUCTURED-LOCATION;VALUE=URI;X-ADDRESS=place du golhorez\, Auray\,
  56\, France;X-APPLE-RADIUS=100;X-TITLE=Centre culturel Athena:geo:47.6664
 9100000001,-2.9837669999999434
END:VEVENT
BEGIN:VTIMEZONE
TZID:Europe/Paris
X-LIC-LOCATION:Europe/Paris
BEGIN:DAYLIGHT
DTSTART:20230326T030000
TZOFFSETFROM:+0100
TZOFFSETTO:+0200
TZNAME:CEST
END:DAYLIGHT
END:VTIMEZONE
END:VCALENDAR