BEGIN:VCALENDAR
VERSION:2.0
PRODID:-//wp-events-plugin.com//7.2.3.1//EN
BEGIN:VEVENT
UID:340@16ruedeplaisance.org
DTSTART;TZID=Europe/Paris;VALUE=DATE:20230619
DTEND;TZID=Europe/Paris;VALUE=DATE:20230625
DTSTAMP:20230513T095823Z
URL:https://www.16ruedeplaisance.org/evenements/residence-de-creation-9/
SUMMARY:Résidence de création
DESCRIPTION:Pour en savoir plus 
ATTACH;FMTTYPE=image/jpeg:https://www.16ruedeplaisance.org/wp-content/uplo
 ads/2022/06/Chateau-en-Espagne-Ruban-scaled.jpg
CATEGORIES:Les frères Pablof
LOCATION:COEF 180\, Chemin des amoureux\, Saint Malo\, 35\, France
GEO:48.651513;-1.991842
X-APPLE-STRUCTURED-LOCATION;VALUE=URI;X-ADDRESS=Chemin des amoureux\, Saint
  Malo\, 35\, France;X-APPLE-RADIUS=100;X-TITLE=COEF 180:geo:48.651513,-1.9
 91842
END:VEVENT
BEGIN:VTIMEZONE
TZID:Europe/Paris
X-LIC-LOCATION:Europe/Paris
BEGIN:DAYLIGHT
DTSTART:20230326T030000
TZOFFSETFROM:+0100
TZOFFSETTO:+0200
TZNAME:CEST
END:DAYLIGHT
END:VTIMEZONE
END:VCALENDAR