BEGIN:VCALENDAR
VERSION:2.0
PRODID:-//wp-events-plugin.com//7.2.3.1//EN
BEGIN:VEVENT
UID:403@16ruedeplaisance.org
DTSTART;TZID=Europe/Paris:20240904T000000
DTEND;TZID=Europe/Paris:20241102T000000
DTSTAMP:20240911T203325Z
URL:https://www.16ruedeplaisance.org/evenements/sous-reserve-de/
SUMMARY:Gwenaëlle Rébillard - [Sous Réserve de...]
DESCRIPTION:Sur l'invitation de la médiathèque L'Autre Lieu du Rheu.\n\nU
 ne création de Gwenaëlle Rébillard avec la complicité des habitant.es.
 \n\n[Sous réserve de…] s’attache à révéler des instants furtifs\, 
 imperceptibles et éphémères enregistrés de manière sensible par le te
 xte\, le dessin et l’installation.\n\n\nC'est un regard poétique et sen
 sible sur L’Autre Lieu\, où chaque détail ordinaire se hisse au rang d
 ’instant remarquable.\nExposition visible du 4 septembre au 2 novembre\,
  aux horaires d'ouverture de la médiathèque.\n
ATTACH;FMTTYPE=image/jpeg:https://www.16ruedeplaisance.org/wp-content/uplo
 ads/2024/09/visuel-Sous-reserve-de.jpg
CATEGORIES:Gwenaëlle Rebillard
LOCATION:Médiathèque l'autre lieue Le Rheu\, Mediatheque l'autre lieu\, L
 e Rheu\, France
GEO:48.098841;-1.796714
X-APPLE-STRUCTURED-LOCATION;VALUE=URI;X-ADDRESS=Mediatheque l'autre lieu\, 
 Le Rheu\, France;X-APPLE-RADIUS=100;X-TITLE=Médiathèque l'autre lieue Le
  Rheu:geo:48.098841,-1.796714
END:VEVENT
BEGIN:VTIMEZONE
TZID:Europe/Paris
X-LIC-LOCATION:Europe/Paris
BEGIN:DAYLIGHT
DTSTART:20240331T030000
TZOFFSETFROM:+0100
TZOFFSETTO:+0200
TZNAME:CEST
END:DAYLIGHT
BEGIN:STANDARD
DTSTART:20241027T020000
TZOFFSETFROM:+0200
TZOFFSETTO:+0100
TZNAME:CET
END:STANDARD
END:VTIMEZONE
END:VCALENDAR