BEGIN:VCALENDAR
VERSION:2.0
PRODID:-//wp-events-plugin.com//7.2.3.1//EN
BEGIN:VEVENT
UID:23@16ruedeplaisance.org
DTSTART;TZID=Europe/Paris;VALUE=DATE:20180309
DTEND;TZID=Europe/Paris;VALUE=DATE:20180312
DTSTAMP:20180419T101417Z
URL:https://www.16ruedeplaisance.org/evenements/test-5/
SUMMARY:Le jardin du possible
DESCRIPTION:Ein Gärtner lädt alle ZuschauerInnen ein\, ihm in seine Welt 
 zu folgen. Diese Welt ist eine pflanzliche und mineralische Welt aus Stein
 en und Holz. Aber auch ein Reich der Bilder von fantastischen Gärten zu v
 erschiedenen Jahreszeiten. Betreten ist hier ausdrücklich erlaubt. In jed
 er Weise: Die angenehmen Materialien anfassen\, sich hinlegen\, sie auf de
 r Haut fühlen\, sie aus der Ordnung bringen und neu zu - sammenfügen. Od
 er einfach schauen und staunen\, wie die Bilder sich über das Material le
 gen und alles sich dauernd verändert.\n\nBenoît Sicat faszinierte mit 
 „Icilà“ bereits im vergangenen Jahr kleine Kinder und die begleitende
 n Erwachsenen. Er ist bildender Künstler und baut hier einen Raum\, in de
 m es um die pure Freude an der Wahrnehmung geht. Behutsam öffnet er seine
 n Garten\, in dem vieles möglich ist. Diese Installation ist vor allem f
 ür Kinder von anderthalb bis fünf Jahren und ihre Familien gedacht\, sie
  dauert je nach Teilnehmerzahl 35 bis 45 Minuten.\n\nThe Garden of the Pos
 sible A gardener invites the audience to follow him into his imaginative w
 orld. Entry is expressly permit - ted here: materials such as stones and w
 ood can be touched\, young viewers can feel them on their skin\, play arou
 nd with them and reassemble them. Or simply marvel at how everything is co
 nstantly changing.\n\nhttp://starke-stuecke.net/en/stage-plays/2018/der-ga
 rten-des-moglichen/
ATTACH;FMTTYPE=image/jpeg:https://www.16ruedeplaisance.org/wp-content/uplo
 ads/2018/04/le-jardin-du-possible-dominique-verite.jpg
CATEGORIES:Benoit Sicat
LOCATION:Starke Stücke\, Schützenstraße 12\, Frankfurt am Main\, 60311\,
  Allemagne
GEO:50.1108081;8.691531700000041
X-APPLE-STRUCTURED-LOCATION;VALUE=URI;X-ADDRESS=Schützenstraße 12\, Frank
 furt am Main\, 60311\, Allemagne;X-APPLE-RADIUS=100;X-TITLE=Starke Stücke
 :geo:50.1108081,8.691531700000041
END:VEVENT
BEGIN:VTIMEZONE
TZID:Europe/Paris
X-LIC-LOCATION:Europe/Paris
BEGIN:STANDARD
DTSTART:20171029T020000
TZOFFSETFROM:+0200
TZOFFSETTO:+0100
TZNAME:CET
END:STANDARD
END:VTIMEZONE
END:VCALENDAR