BEGIN:VCALENDAR
VERSION:2.0
PRODID:-//wp-events-plugin.com//7.2.3.1//EN
BEGIN:VEVENT
UID:461@16ruedeplaisance.org
DTSTART;TZID=Europe/Paris;VALUE=DATE:20240913
DTEND;TZID=Europe/Paris;VALUE=DATE:20240914
DTSTAMP:20250304T100230Z
URL:https://www.16ruedeplaisance.org/evenements/un-nid-doiseau-dans-les-ch
 eveux-2024-09-13/
SUMMARY:Un Nid d'oiseau dans les cheveux
DESCRIPTION:Atelier Portes Ouvertes d'artistes Rennais\n\nUn Nid d’Oiseau
  dans les Cheveux est une pièce à écouter\, adaptée du texte Lys Marta
 gon de Sylvain Levey (éditions théâtrales jeunesse) et de la création 
 théâtrale l’Appel Du Dehors interprétée et mise en scène par Fanny 
 Bouffort.
ATTACH;FMTTYPE=image/jpeg:https://www.16ruedeplaisance.org/wp-content/uplo
 ads/2025/03/25.jpg
CATEGORIES:Fanny Bouffort
LOCATION:Collectif 16 rue de Plaisance - Bureau Papu\, 17rue de Brest\, Ren
 nes\, 35000\, France
GEO:48.111568;-1.69185
X-APPLE-STRUCTURED-LOCATION;VALUE=URI;X-ADDRESS=17rue de Brest\, Rennes\, 3
 5000\, France;X-APPLE-RADIUS=100;X-TITLE=Collectif 16 rue de Plaisance - B
 ureau Papu:geo:48.111568,-1.69185
END:VEVENT
BEGIN:VTIMEZONE
TZID:Europe/Paris
X-LIC-LOCATION:Europe/Paris
BEGIN:DAYLIGHT
DTSTART:20240331T030000
TZOFFSETFROM:+0100
TZOFFSETTO:+0200
TZNAME:CEST
END:DAYLIGHT
END:VTIMEZONE
END:VCALENDAR