BEGIN:VCALENDAR
VERSION:2.0
PRODID:-//wp-events-plugin.com//7.2.3.1//EN
BEGIN:VEVENT
UID:93@16ruedeplaisance.org
DTSTART;VALUE=DATE:20170708
DTEND;VALUE=DATE:20170709
DTSTAMP:20180504T131011Z
URL:https://www.16ruedeplaisance.org/evenements/un-nuage-sans-pantalon-10/
SUMMARY:Un nuage sans pantalon
DESCRIPTION:9h30 - 11h00 -14h00 - 18h00\n\n 
ATTACH;FMTTYPE=image/jpeg:https://www.16ruedeplaisance.org/wp-content/uplo
 ads/2018/04/UNSPcartenetSB.jpg
CATEGORIES:Les frères Pablof
LOCATION:CENTRE SOCIAL ALBERT JACQUARD\, 71 avenue Billoux\, Lanester\, Fra
 nce
GEO:47.7626318;-3.348267299999975
X-APPLE-STRUCTURED-LOCATION;VALUE=URI;X-ADDRESS=71 avenue Billoux\, Laneste
 r\, France;X-APPLE-RADIUS=100;X-TITLE=CENTRE SOCIAL ALBERT JACQUARD:geo:47
 .7626318,-3.348267299999975
END:VEVENT
END:VCALENDAR