BEGIN:VCALENDAR
VERSION:2.0
PRODID:-//wp-events-plugin.com//7.2.3.1//EN
BEGIN:VEVENT
UID:97@16ruedeplaisance.org
DTSTART;VALUE=DATE:20171218
DTEND;VALUE=DATE:20171219
DTSTAMP:20180504T132630Z
URL:https://www.16ruedeplaisance.org/evenements/un-nuage-sans-pantalon-14/
SUMMARY:Un nuage sans pantalon
DESCRIPTION:9h30 - 11h00 -14h00 - 18h00\n\n 
ATTACH;FMTTYPE=image/jpeg:https://www.16ruedeplaisance.org/wp-content/uplo
 ads/2018/04/UNSPcartenetSB.jpg
CATEGORIES:Les frères Pablof
LOCATION:COLLEGE DU QUERPON\, Route du Campel\, Maure de Bretagne\, France
GEO:47.8923907;-1.9895301999999901
X-APPLE-STRUCTURED-LOCATION;VALUE=URI;X-ADDRESS=Route du Campel\, Maure de 
 Bretagne\, France;X-APPLE-RADIUS=100;X-TITLE=COLLEGE DU QUERPON:geo:47.892
 3907,-1.9895301999999901
END:VEVENT
END:VCALENDAR