BEGIN:VCALENDAR
VERSION:2.0
PRODID:-//wp-events-plugin.com//7.2.3.1//EN
BEGIN:VEVENT
UID:81@16ruedeplaisance.org
DTSTART;VALUE=DATE:20151030
DTEND;VALUE=DATE:20151031
DTSTAMP:20180504T124032Z
URL:https://www.16ruedeplaisance.org/evenements/un-nuage-sans-pantalon-2/
SUMMARY:Un nuage sans pantalon
DESCRIPTION:11h30 - 18h - 20h00\n\n 
ATTACH;FMTTYPE=image/jpeg:https://www.16ruedeplaisance.org/wp-content/uplo
 ads/2018/04/UNSPcartenetSB.jpg
CATEGORIES:Les frères Pablof
LOCATION:Ecole Publique René Guy Cadou\,\, 20 Rue du Chanoine Tanvet\, Ret
 iers\, France
GEO:47.9165477;-1.3810035000000198
X-APPLE-STRUCTURED-LOCATION;VALUE=URI;X-ADDRESS=20 Rue du Chanoine Tanvet\,
  Retiers\, France;X-APPLE-RADIUS=100;X-TITLE=Ecole Publique René Guy Cado
 u\,:geo:47.9165477,-1.3810035000000198
END:VEVENT
END:VCALENDAR