BEGIN:VCALENDAR
VERSION:2.0
PRODID:-//wp-events-plugin.com//7.2.3.1//EN
BEGIN:VEVENT
UID:84@16ruedeplaisance.org
DTSTART;VALUE=DATE:20151116
DTEND;VALUE=DATE:20151117
DTSTAMP:20180504T124418Z
URL:https://www.16ruedeplaisance.org/evenements/un-nuage-sans-pantalon-3/
SUMMARY:Un nuage sans pantalon
DESCRIPTION:9h30 - 11h - 14h00\n\n 
ATTACH;FMTTYPE=image/jpeg:https://www.16ruedeplaisance.org/wp-content/uplo
 ads/2018/04/UNSPcartenetSB.jpg
CATEGORIES:Les frères Pablof
LOCATION:Collège Angèle Vannier\, 1bis Bd du Collège\, St Brice en Cogle
 s\, France
GEO:48.4125415;-1.3719857999999476
X-APPLE-STRUCTURED-LOCATION;VALUE=URI;X-ADDRESS=1bis Bd du Collège\, St Br
 ice en Cogles\, France;X-APPLE-RADIUS=100;X-TITLE=Collège Angèle Vannier
 :geo:48.4125415,-1.3719857999999476
END:VEVENT
END:VCALENDAR