BEGIN:VCALENDAR
VERSION:2.0
PRODID:-//wp-events-plugin.com//7.2.3.1//EN
BEGIN:VEVENT
UID:85@16ruedeplaisance.org
DTSTART;VALUE=DATE:20160321
DTEND;VALUE=DATE:20160323
DTSTAMP:20180504T143613Z
URL:https://www.16ruedeplaisance.org/evenements/un-nuage-sans-pantalon-4/
SUMMARY:Un nuage sans pantalon
DESCRIPTION:9h30 - 11h00 - 14h00 - 18h00\n\n 
ATTACH;FMTTYPE=image/jpeg:https://www.16ruedeplaisance.org/wp-content/uplo
 ads/2018/04/UNSPcartenetSB.jpg
CATEGORIES:Les frères Pablof
LOCATION:festival Méliscènes\, Place du Gohlérez\, Auray\, France
GEO:47.6656381;-2.989502000000016
X-APPLE-STRUCTURED-LOCATION;VALUE=URI;X-ADDRESS=Place du Gohlérez\, Auray\
 , France;X-APPLE-RADIUS=100;X-TITLE=festival Méliscènes:geo:47.6656381,-
 2.989502000000016
END:VEVENT
END:VCALENDAR