BEGIN:VCALENDAR
VERSION:2.0
PRODID:-//wp-events-plugin.com//7.2.3.1//EN
BEGIN:VEVENT
UID:87@16ruedeplaisance.org
DTSTART;VALUE=DATE:20160430
DTEND;VALUE=DATE:20160501
DTSTAMP:20180504T125036Z
URL:https://www.16ruedeplaisance.org/evenements/un-nuage-sans-pantalon-5/
SUMMARY:Un nuage sans pantalon
DESCRIPTION:14h00 - 18h00\n\n 
ATTACH;FMTTYPE=image/jpeg:https://www.16ruedeplaisance.org/wp-content/uplo
 ads/2018/04/UNSPcartenetSB.jpg
CATEGORIES:Les frères Pablof
LOCATION:Maison Pour Tous\, 86 avenue André BONNIN\, Chantepie\, France
GEO:48.0869204;-1.6163927999999714
X-APPLE-STRUCTURED-LOCATION;VALUE=URI;X-ADDRESS=86 avenue André BONNIN\, C
 hantepie\, France;X-APPLE-RADIUS=100;X-TITLE=Maison Pour Tous:geo:48.08692
 04,-1.6163927999999714
END:VEVENT
END:VCALENDAR