BEGIN:VCALENDAR
VERSION:2.0
PRODID:-//wp-events-plugin.com//7.2.3.1//EN
BEGIN:VEVENT
UID:88@16ruedeplaisance.org
DTSTART;VALUE=DATE:20161117
DTEND;VALUE=DATE:20161119
DTSTAMP:20180504T125641Z
URL:https://www.16ruedeplaisance.org/evenements/un-nuage-sans-pantalon-6/
SUMMARY:Un nuage sans pantalon
DESCRIPTION:9h30 - 11h00 - 14h00 - 16h00\n\n 
ATTACH;FMTTYPE=image/jpeg:https://www.16ruedeplaisance.org/wp-content/uplo
 ads/2018/04/UNSPcartenetSB.jpg
CATEGORIES:Les frères Pablof
LOCATION:COLLEGE LAENNEC\, Rue du Sequer\, Pont l'Abbé\, France
GEO:47.8575469;-4.237180999999964
X-APPLE-STRUCTURED-LOCATION;VALUE=URI;X-ADDRESS=Rue du Sequer\, Pont l'Abb
 é\, France;X-APPLE-RADIUS=100;X-TITLE=COLLEGE LAENNEC:geo:47.8575469,-4.2
 37180999999964
END:VEVENT
END:VCALENDAR