BEGIN:VCALENDAR
VERSION:2.0
PRODID:-//wp-events-plugin.com//7.2.3.1//EN
BEGIN:VEVENT
UID:16@16ruedeplaisance.org
DTSTART;VALUE=DATE:20180518
DTEND;VALUE=DATE:20180519
DTSTAMP:20180424T102937Z
URL:https://www.16ruedeplaisance.org/evenements/un-nuage-sans-pantalon/
SUMMARY:Un nuage sans pantalon
DESCRIPTION:9h - 10h30 - 14h - 15h30\n\nSéance scolaire uniquement
ATTACH;FMTTYPE=image/jpeg:https://www.16ruedeplaisance.org/wp-content/uplo
 ads/2018/04/UNSPcartenetSB.jpg
CATEGORIES:Les frères Pablof
LOCATION:Cercle Paul Bert Gayeulles\, 12 rue des Longs Prés\, Rennes\, 350
 00\, France
GEO:48.1323175;-1.6545293000000356
X-APPLE-STRUCTURED-LOCATION;VALUE=URI;X-ADDRESS=12 rue des Longs Prés\, Re
 nnes\, 35000\, France;X-APPLE-RADIUS=100;X-TITLE=Cercle Paul Bert Gayeulle
 s:geo:48.1323175,-1.6545293000000356
END:VEVENT
END:VCALENDAR